BEGIN:VCALENDAR
VERSION:2.0
PRODID:-//Sabre//Sabre VObject 4.5.8//EN
CALSCALE:GREGORIAN
BEGIN:VEVENT
UID:sabre-vobject-50de9758-0b73-4fd2-8a60-872a1ba14278
DTSTAMP:20260423T212653Z
SUMMARY:CDC Father’s Day Celebration 
DESCRIPTION:
X-ALT-DESC:FMTTYPE=text/html:<!DOCTYPE HTML PUBLIC "-//W3C//DTD HTML 3.2//E
 N"><HTML></HTML>
CREATED;TZID=America/Los_Angeles:20230531T101333
URL;VALUE=URI:https://irwin.armymwr.com/calendar/event
DTSTART;TZID=America/Los_Angeles:20230616T153000
DTEND;TZID=America/Los_Angeles:20230616T170000
SEQUENCE:0
END:VEVENT
END:VCALENDAR
