BEGIN:VCALENDAR
VERSION:2.0
PRODID:-//Sabre//Sabre VObject 4.5.8//EN
CALSCALE:GREGORIAN
BEGIN:VEVENT
UID:sabre-vobject-a1a5e3e9-a097-4c8b-9972-f5ca26442cd0
DTSTAMP:20260424T003330Z
SUMMARY:Single Parent Support Group
DESCRIPTION:
X-ALT-DESC:FMTTYPE=text/html:<!DOCTYPE HTML PUBLIC "-//W3C//DTD HTML 3.2//E
 N"><HTML></HTML>
CREATED;TZID=America/Los_Angeles:20230531T091650
URL;VALUE=URI:https://irwin.armymwr.com/calendar/event
DTSTART;TZID=America/Los_Angeles:20230612T120000
DTEND;TZID=America/Los_Angeles:20230612T123000
SEQUENCE:0
END:VEVENT
END:VCALENDAR
