BEGIN:VCALENDAR
VERSION:2.0
PRODID:-//Sabre//Sabre VObject 4.5.8//EN
CALSCALE:GREGORIAN
BEGIN:VEVENT
UID:sabre-vobject-5f542552-2360-4196-b360-13b96e6db695
DTSTAMP:20260422T162545Z
SUMMARY:Fireworks at the Field
DESCRIPTION:
X-ALT-DESC:FMTTYPE=text/html:<!DOCTYPE HTML PUBLIC "-//W3C//DTD HTML 3.2//E
 N"><HTML></HTML>
CREATED;TZID=America/Los_Angeles:20190604T142325
URL;VALUE=URI:https://irwin.armymwr.com/calendar/event
DTSTART;TZID=America/Los_Angeles:20190704T190000
DTEND;TZID=America/Los_Angeles:20190704T213000
SEQUENCE:0
END:VEVENT
END:VCALENDAR
